BEGIN:VCALENDAR
VERSION:2.0
PRODID:-//Marc Lesser - ECPv6.15.20//NONSGML v1.0//EN
CALSCALE:GREGORIAN
METHOD:PUBLISH
X-WR-CALNAME:Marc Lesser
X-ORIGINAL-URL:https://marclesser.net
X-WR-CALDESC:Events for Marc Lesser
REFRESH-INTERVAL;VALUE=DURATION:PT1H
X-Robots-Tag:noindex
X-PUBLISHED-TTL:PT1H
BEGIN:VTIMEZONE
TZID:America/Los_Angeles
BEGIN:DAYLIGHT
TZOFFSETFROM:-0800
TZOFFSETTO:-0700
TZNAME:PDT
DTSTART:20180311T100000
END:DAYLIGHT
BEGIN:STANDARD
TZOFFSETFROM:-0700
TZOFFSETTO:-0800
TZNAME:PST
DTSTART:20181104T090000
END:STANDARD
BEGIN:DAYLIGHT
TZOFFSETFROM:-0800
TZOFFSETTO:-0700
TZNAME:PDT
DTSTART:20190310T100000
END:DAYLIGHT
BEGIN:STANDARD
TZOFFSETFROM:-0700
TZOFFSETTO:-0800
TZNAME:PST
DTSTART:20191103T090000
END:STANDARD
BEGIN:DAYLIGHT
TZOFFSETFROM:-0800
TZOFFSETTO:-0700
TZNAME:PDT
DTSTART:20200308T100000
END:DAYLIGHT
BEGIN:STANDARD
TZOFFSETFROM:-0700
TZOFFSETTO:-0800
TZNAME:PST
DTSTART:20201101T090000
END:STANDARD
END:VTIMEZONE
BEGIN:VEVENT
DTSTART;TZID=America/Los_Angeles:20190906T000000
DTEND;TZID=America/Los_Angeles:20190906T080000
DTSTAMP:20260424T052730
CREATED:20190308T014421Z
LAST-MODIFIED:20221216T062830Z
UID:10000134-1567728000-1567756800@marclesser.net
SUMMARY:Seven Practices of a Mindful Leader - Berlin
DESCRIPTION:1-day Training with Marc Lesser and Mounira Latrache | September 6\, 2019; 9:00 am to 5:00 pm CEST \nWhat would your work look like if you knew how to stay focused without being rigid\, if you got more of the right things done\, if you could transform challenges into opportunities? \nIn this 1-day workshop\, which is suitable for leaders at any level\, you’ll receive the tools you need to shift awareness\, enhance communication\, build trust\, reduce fear and self-doubt\, and cut down on unnecessary workplace drama. \nWe’ll explore how the inner work of mindfulness and self-awareness meets the outer work of leadership and business as a force for positive change and results that matter. You’ll learn how to: \n\nCultivate your leadership presence\nThrive in the midst of change and challenges\n“Own” your power and your ability to empower others\nImprove focus and flexibility\nCultivate greater self-awareness and resilience\nIncrease engagement\, collaboration\, and wellbeing\n\nThis highly interactive training is structured around 7 core mindful leadership practices: \n1) Love the work: Lead with focused inspiration. \n2) Do the work: Learn to respond with more empathy and flexibility. \n3) Don’t be an expert: Let go of thinking you are right. Step into greater wonder\, openness\, and vulnerability. \n4) Connect to your pain: Transform challenges and difficulty into learning and opportunity. \n5) Connect to the pain of others: Increase connection and trust. \n6) Depend on others: Empower others and be empowered by others to foster alignment and radically healthy communication. \n7) Keep making it simpler: Let go of a mindset of fear and scarcity. Cultivate awe and wonder. Focus on results that matter most. \nSustaining and Integrating the Practices: program participants will learn group support and problem-solving methodology providing the framework for ongoing\, independent group process following the training\, as a means to sustain and integrate the practices
URL:https://marclesser.net/event/seven-practices-berlin-workshop/
LOCATION:Factory Berlin\, Rheinsberger Str. 76/77\, Berlin\, 10115\, Germany
CATEGORIES:Seven Practices,Workshop
END:VEVENT
BEGIN:VEVENT
DTSTART;VALUE=DATE:20190809
DTEND;VALUE=DATE:20190812
DTSTAMP:20260424T052730
CREATED:20190131T030045Z
LAST-MODIFIED:20221216T062841Z
UID:10000126-1565308800-1565567999@marclesser.net
SUMMARY:Aware Leadership Workshop with Daniel Siegel\, MD
DESCRIPTION:Living and Leading a Meaningful and Connected Life \nWhat does it really mean to lead with awareness—to be clear\, open\, and compassionate—and to live a life of authentic connection and purposeful engagement?\n\nJoin best-selling author and renowned psychiatrist Dan Siegel\, MD\, and mindfulness and emotional intelligence expert Marc Lesser\, for an intensive deep dive on how to cultivate and embody leading with awareness as a way to transform yourself and the world.\n\nDuring this powerful weekend\, you’ll:\n\nExamine the integration of mindfulness\, emotional intelligence\, and leadership\nDevelop and utilize an awareness practice\nImplement mindfulness exercises for integrating leadership and life\nExplore how mindfulness grows healthier brains\, reduces stress\, and increases energy\n\n\nAlign your awareness and leadership practices so that together they seamlessly encourage heightened focus\, open awareness\, and the emotional intelligence capacities needed for truly conscious leadership. Research suggests that these skills cultivate vital aspects of both self-development and leadership growth. Learn how this kind of integration serves as a practical bridge between the science of well-being and the experience of embodied leadership through scientifically-inspired and experiential exercises.\n\nIn this workshop\, you’ll gain skills and ideas to create a comprehensive approach to unifying mindfulness\, relationship\, and leadership. Develop greater meaning and connection as you flourish in your daily life at work and home.
URL:https://marclesser.net/event/aware-leadership-workshop/
LOCATION:1140 Multiversity\, 800 Bethany Drive\, Scotts Valley\, CA\, 95066\, United States
CATEGORIES:Workshop
END:VEVENT
BEGIN:VEVENT
DTSTART;TZID=America/Los_Angeles:20190726T190000
DTEND;TZID=America/Los_Angeles:20190726T210000
DTSTAMP:20260424T052730
CREATED:20190131T025352Z
LAST-MODIFIED:20221216T062846Z
UID:10000125-1564167600-1564174800@marclesser.net
SUMMARY:Dharma Off the Cushion: Seven Practices of a Mindful Leader
DESCRIPTION:Marc Lesser is internationally recognized for pioneering work in mindful leadership\, creating exceptional business cultures\, and supporting profound well-being. In this workshop\, you’ll explore the tools you need to shift awareness\, enhance communication\, build trust\, eliminate fear and self-doubt\, and cut down on unnecessary workplace drama. \nYou’ll learn how the inner work of mindfulness and self-awareness meets the outer work of leadership and business as forces for positive change and results that matter. \nThis highly-interactive workshop is based on Marc’s latest book\, Seven Practices of a Mindful Leader: Lessons from Google and a Zen Monastery Kitchen. \nThe practices are:\n1. Love the work\n2. Do the work\n3. Don’t be an expert\n4. Connect to your pain\n5. Connect to the pain of others\n6. Depend on others\n7. Keep making it simpler \nEmbracing any one of the 7 practices alone can be life-changing. When used together\, they support a path of well-being\, productivity\, and positive influence. \nThe principles in this workshop can be applied to leadership at any level\, though it’s also suitable for anyone interested in building the inner strengths necessary to meet and shift the personal\, professional\, and global challenges we all face. \nCost: Sliding scale $20. – $30. This event is a benefit for Sukhasiddha Foundation. Register here.
URL:https://marclesser.net/event/sukhasiddhi-foundation-author-talk/
LOCATION:Sukhasiddhi Foundation\, 771 Center Blvd\, Fairfax\, CA\, 94930\, United States
CATEGORIES:Workshop
END:VEVENT
BEGIN:VEVENT
DTSTART;TZID=America/Los_Angeles:20190407T180000
DTEND;TZID=America/Los_Angeles:20190412T120000
DTSTAMP:20260424T052730
CREATED:20190122T064845Z
LAST-MODIFIED:20221216T063034Z
UID:10000101-1554660000-1555070400@marclesser.net
SUMMARY:Esalen 5-day Workshop\, Mindfulness\, Sensory Awareness and Zen Practice
DESCRIPTION:With Lee Lesser \nIn our world of busy-ness — of more\, faster\, better — this retreat offers time to stop\, reflect\, and renew. It is a time to step fully into the richness of our lives. Together we will follow a gentle schedule of sensory awareness practice and sitting meditation interspersed with talks\, Zen stories\, and journal writing\, as well as small group and large group dialogue as we uncover how these stories and dialogues may be utilized to transform our way of being in the world as leaders. \nEach day our practice will be focused on one or two of the seven practices of a mindful leader: Love the work; Do the work; Don’t be an expert; Connect to your pain; Connect to the pain of others; Depend on others; and Keep making it simple. \nWe will practice developing ways to integrate mindfulness into our ability to envision\, connect\, empower\, and collaborate. Sensory Awareness and Zen are practices through which we connect with our natural intelligence and vitality; we can discover what responds in us in the midst of change and growth; and we can learn to rely on our sensations as guides to the fresh terrain of each moment.
URL:https://marclesser.net/event/esalen-workshop-mindfulness-sensory-awareness-zen-practice/
LOCATION:Esalen\, 55000 CA-1\, Big Sur\, CA\, 93920\, United States
CATEGORIES:Workshop
END:VEVENT
END:VCALENDAR