BEGIN:VCALENDAR
VERSION:2.0
PRODID:-//Marc Lesser - ECPv6.15.20//NONSGML v1.0//EN
CALSCALE:GREGORIAN
METHOD:PUBLISH
X-ORIGINAL-URL:https://marclesser.net
X-WR-CALDESC:Events for Marc Lesser
REFRESH-INTERVAL;VALUE=DURATION:PT1H
X-Robots-Tag:noindex
X-PUBLISHED-TTL:PT1H
BEGIN:VTIMEZONE
TZID:America/Los_Angeles
BEGIN:DAYLIGHT
TZOFFSETFROM:-0800
TZOFFSETTO:-0700
TZNAME:PDT
DTSTART:20190310T100000
END:DAYLIGHT
BEGIN:STANDARD
TZOFFSETFROM:-0700
TZOFFSETTO:-0800
TZNAME:PST
DTSTART:20191103T090000
END:STANDARD
BEGIN:DAYLIGHT
TZOFFSETFROM:-0800
TZOFFSETTO:-0700
TZNAME:PDT
DTSTART:20200308T100000
END:DAYLIGHT
BEGIN:STANDARD
TZOFFSETFROM:-0700
TZOFFSETTO:-0800
TZNAME:PST
DTSTART:20201101T090000
END:STANDARD
BEGIN:DAYLIGHT
TZOFFSETFROM:-0800
TZOFFSETTO:-0700
TZNAME:PDT
DTSTART:20210314T100000
END:DAYLIGHT
BEGIN:STANDARD
TZOFFSETFROM:-0700
TZOFFSETTO:-0800
TZNAME:PST
DTSTART:20211107T090000
END:STANDARD
BEGIN:DAYLIGHT
TZOFFSETFROM:-0800
TZOFFSETTO:-0700
TZNAME:PDT
DTSTART:20220313T100000
END:DAYLIGHT
BEGIN:STANDARD
TZOFFSETFROM:-0700
TZOFFSETTO:-0800
TZNAME:PST
DTSTART:20221106T090000
END:STANDARD
BEGIN:DAYLIGHT
TZOFFSETFROM:-0800
TZOFFSETTO:-0700
TZNAME:PDT
DTSTART:20230312T100000
END:DAYLIGHT
BEGIN:STANDARD
TZOFFSETFROM:-0700
TZOFFSETTO:-0800
TZNAME:PST
DTSTART:20231105T090000
END:STANDARD
END:VTIMEZONE
BEGIN:VEVENT
DTSTART;TZID=America/Los_Angeles:20220826T093000
DTEND;TZID=America/Los_Angeles:20221217T163000
DTSTAMP:20260424T034423
CREATED:20220607T152451Z
LAST-MODIFIED:20221216T062315Z
UID:10000097-1661506200-1671294600@marclesser.net
SUMMARY:Mindful Leadership Training at Spirit Rock (Online)
DESCRIPTION:Description:\nThis certificate training program is open to and designed for leaders and aspiring leaders in both the non-profit and for-profit sectors. We will cultivate mindful and compassionate leadership skills and practices to embody our care for ourselves and others\, with a mindset of service to community and the world. \nA core\, distinct pedagogical approach of this program is participating in and co-learning with a supportive community of like-minded peers both in the large group and small monthly pod meetings. Through lectures\, group discussion\, guided meditations\, readings\, reflections\, experiential exercises\, and personal meditation practice\, we will cultivate skills and behaviors that can be applied directly to our personal and professional lives. By developing and incorporating these intentional practices\, we will strengthen professional relationships and workplace environments\, expanding impact beyond our own learning for the broader benefit of our work and organization(s). \nThis program includes training in three realms: personal\, relational\, and organizational. Some included themes are: \n\nMindful\, compassionate\, values-aligned leadership\nCultivating well-being: self-care\, rest\, and resilience\nSelf-awareness and self-management: emotional intelligence and working with difficult emotions\nTransforming professional and personal relationships through embodied\, skillful communication\nCourageous conversations\nEmpowering and inspiring people and teams\nCoaching and mentoring: compassionate accountability\nFostering and co-creating belonging\n\nProgram Includes:\nMonthly large group sessions – online (recorded)\nMonthly small team sessions\nDaily and monthly home practices and readings\nMonthly written reflections\nMonthly office hours – online (recorded)\nOptional opt-in affinity groups \nDates:\nProgram runs August 26 – December 17\, 2022. Specific training dates below. All large group session times are: 9:30 a.m. – 4:30 p.m. US Pacific Time.\nFri-Sat\, Aug 26-27 (2 days); Opening Weekend\nFri\, Sept 23\nFri\, Oct 21\nFri\, Nov 18\nFri-Sat\, Dec 16-17 (2 days); Closing Weekend \nLocation:\nOnline via Zoom \nLearn more about the program here. Register now.
URL:https://marclesser.net/event/mindful-leadership-training-spirit-rock-2022/
LOCATION:Zoom
CATEGORIES:Workshop
ORGANIZER;CN="Spirit Rock":MAILTO:srmc@spiritrock.org
END:VEVENT
BEGIN:VEVENT
DTSTART;VALUE=DATE:20210827
DTEND;VALUE=DATE:20211219
DTSTAMP:20260424T034423
CREATED:20210510T012602Z
LAST-MODIFIED:20221216T062324Z
UID:10000094-1630022400-1639871999@marclesser.net
SUMMARY:Mindful Leadership Training at Spirit Rock
DESCRIPTION:This certificate training program is open to and designed for leaders and aspiring leaders in both the non-profit and for-profit sectors.  We will cultivate the mindful and compassionate leadership skills of focus\, clarity\, emotional regulation\, well-being\, self-awareness\, caring for self and others\, with a mindset of service to community and the world. \nThrough mindfulness curriculum\, meditation instruction\, group discussions\, and practice opportunities\, we will cultivate skills and behaviors that can be applied directly to our personal and professional lives. By developing and incorporating these intentional practices\, we will strengthen professional relationships and workplace environments\, expanding impact beyond our own learning for the broader benefit of our work and organization(s). \n\nThis program includes training in three realms: personal\, relational\, and organizational. Some included themes are:\nMindful\, compassionate\, values-aligned leadership\nCourageous conversations\nBuilding and empowering effective partnerships and teams\nPersonal ecology: self-care\, well being\, resilience\nSelf-awareness and self-management: emotional intelligence and working with difficult emotions\nCoaching and mentoring: compassionate accountability\nFostering belonging\n\nRegistration closes August 23rd. Learn more and/or Register here.
URL:https://marclesser.net/event/mindful-leadership-training-at-spirit-rock-august-2021/
LOCATION:Spirit Rock\, Community Meditation Center\, 5000 Sir Francis Drake Blvd\, Woodacre\, CA\, 94973\, United States
CATEGORIES:Online Course
ORGANIZER;CN="Spirit Rock":MAILTO:srmc@spiritrock.org
END:VEVENT
BEGIN:VEVENT
DTSTART;VALUE=DATE:20200124
DTEND;VALUE=DATE:20200531
DTSTAMP:20260424T034423
CREATED:20191205T023553Z
LAST-MODIFIED:20221216T062731Z
UID:10000146-1579824000-1590883199@marclesser.net
SUMMARY:Mindful Non-Profit Leadership Training
DESCRIPTION:This five-month training program will be geared toward those in leadership positions working in social and environmental justice\, education\, health care\, and other non-profit organizations in the San Francisco Bay Area. It will cultivate the mindful leadership skills of focus\, clarity\, emotional regulation\, compassion\, self-awareness\, and well-being for non-profit leaders in the social change sector. \nThrough mindfulness curriculum\, meditation instruction\, group discussions\, and practice opportunities\, participants will cultivate skills and behaviors that can be applied directly to their personal and professional lives. By developing and incorporating these intentional practices\, participants will strengthen professional relationships and workplace environments\, expanding impact beyond their own learning for the broader benefit of their work and organization. \nPROGRAM DETAILS\n• A certificate and training program for Directors\, Executive Directors\, Board Members\, C-level leaders\, or equivalent\, of non-profit organizations\, within the San Francisco Bay Area.\n• Commitment: two 2-day commuter retreats\, three 1-day retreats.\n• Cohort community & peer support is a foundational component of the program to support ongoing mindfulness skill development and integration.\n• Participation is limited to 40 participants.\n• Accommodations are not available at Spirit Rock for the commuter and day retreats. Although Spirit Rock staff have not personally viewed or vetted them\, as a courtesy to our out-of-town guests\, we suggest you check out these nearby accommodations\n• All sessions in the training program will be held at Spirit Rock.\n• Participation in the program will be confirmed once program requirements are verified. \nPROGRAM DATES: \n\nJanuary 24-25\, 2020; 10:00am – 4:30pm \nFebruary 22\, 2020; 10:00am – 4:30pm \nMarch 14\, 2020; 10:00am – 4:30pm \nApril 18\, 2020; 10:00am – 4:30pm \nMay 29-30\, 2020; 10:00am – 4:30pm 
URL:https://marclesser.net/event/mindful-non-profit-leadership-training-spirit-rock/
LOCATION:Spirit Rock\, Community Meditation Center\, 5000 Sir Francis Drake Blvd\, Woodacre\, CA\, 94973\, United States
ORGANIZER;CN="Spirit Rock":MAILTO:srmc@spiritrock.org
END:VEVENT
END:VCALENDAR