BEGIN:VCALENDAR
VERSION:2.0
PRODID:-//Marc Lesser - ECPv6.15.20//NONSGML v1.0//EN
CALSCALE:GREGORIAN
METHOD:PUBLISH
X-ORIGINAL-URL:https://marclesser.net
X-WR-CALDESC:Events for Marc Lesser
REFRESH-INTERVAL;VALUE=DURATION:PT1H
X-Robots-Tag:noindex
X-PUBLISHED-TTL:PT1H
BEGIN:VTIMEZONE
TZID:America/Los_Angeles
BEGIN:DAYLIGHT
TZOFFSETFROM:-0800
TZOFFSETTO:-0700
TZNAME:PDT
DTSTART:20190310T100000
END:DAYLIGHT
BEGIN:STANDARD
TZOFFSETFROM:-0700
TZOFFSETTO:-0800
TZNAME:PST
DTSTART:20191103T090000
END:STANDARD
BEGIN:DAYLIGHT
TZOFFSETFROM:-0800
TZOFFSETTO:-0700
TZNAME:PDT
DTSTART:20200308T100000
END:DAYLIGHT
BEGIN:STANDARD
TZOFFSETFROM:-0700
TZOFFSETTO:-0800
TZNAME:PST
DTSTART:20201101T090000
END:STANDARD
BEGIN:DAYLIGHT
TZOFFSETFROM:-0800
TZOFFSETTO:-0700
TZNAME:PDT
DTSTART:20210314T100000
END:DAYLIGHT
BEGIN:STANDARD
TZOFFSETFROM:-0700
TZOFFSETTO:-0800
TZNAME:PST
DTSTART:20211107T090000
END:STANDARD
END:VTIMEZONE
BEGIN:VEVENT
DTSTART;TZID=America/Los_Angeles:20200410T100000
DTEND;TZID=America/Los_Angeles:20200410T163000
DTSTAMP:20260424T010551
CREATED:20200117T090556Z
LAST-MODIFIED:20221216T062536Z
UID:10000084-1586512800-1586536200@marclesser.net
SUMMARY:Seven Practices of a Mindful Leader - Online\, Interactive Workshop
DESCRIPTION:What would your work look like if you knew how to stay focused without being rigid\, if you got more of the right things done\, if you could transform challenges into opportunities? \nJoin Marc Lesser\, CEO of ZBA Associates and former CEO of Search Inside Yourself Leadership Institute\, and Scott Shute\, head of Mindfulness and Compassion Programs at LinkedIn\, to learn about the practical\, evidence-based tools you can utilize to shift awareness\, enhance communication\, build trust\, reduce fear and self-doubt\, and cut down on unnecessary drama in the workplace. \nIn this workshop\, which is suitable for leaders at any level\, you’ll explore how the inner work of mindfulness and self-awareness meets the outer work of leadership and business as a force for positive change and results that matter. \nYou’ll learn how to: \n1. Cultivate your leadership presence\n2. Thrive in the midst of change and challenges\n3. “Own” your power and your ability to empower others\n4. Improve focus and flexibility\n5. Cultivate greater self-awareness and resilience\n6. Increase engagement\, collaboration\, and wellbeing \nThis highly-interactive training is structured around the 7 core mindful leadership practices from Marc Lesser’s book\, Seven Practices of a Mindful Leader. \nThis virtual workshop will include instruction\, breakout group sessions\, and time for Q&A.
URL:https://marclesser.net/event/seven-practices-of-a-mindful-leader-linkedin-april2020/
LOCATION:CA\, United States
CATEGORIES:Seven Practices,Workshop
END:VEVENT
BEGIN:VEVENT
DTSTART;TZID=America/Los_Angeles:20200108T190000
DTEND;TZID=America/Los_Angeles:20200108T203000
DTSTAMP:20260424T010551
CREATED:20191205T014222Z
LAST-MODIFIED:20221216T062734Z
UID:10000145-1578510000-1578515400@marclesser.net
SUMMARY:Mill Valley Zen Meditation Group
DESCRIPTION:Wednesday evening meditations and meeting with Marc Lesser and occasional guest teachers.\nSchedule: each Wednesday (recurring) from 7:00 – 8:30 p.m.\n \nRegister at https://millvalleyzen.com/. \nMill Valley Zen is open to anyone wanting to learn to meditate\, to have a regular meditation practice\, to sit with others\, to study Zen\, to investigate the question of what it means to be a human being in these challenging and amazing times. \nThis group was formed for people who want to have a regular meditation practice and find it difficult to maintain a regular practice in the midst of their busy lives\, as well as for those who want to refresh or deepen their practices.
URL:https://marclesser.net/event/wednesday-evening-meditations-mill-valley/
LOCATION:CA\, United States
CATEGORIES:Dharma Talk
END:VEVENT
END:VCALENDAR