BEGIN:VCALENDAR
VERSION:2.0
PRODID:-//Marc Lesser - ECPv6.15.20//NONSGML v1.0//EN
CALSCALE:GREGORIAN
METHOD:PUBLISH
X-ORIGINAL-URL:https://marclesser.net
X-WR-CALDESC:Events for Marc Lesser
REFRESH-INTERVAL;VALUE=DURATION:PT1H
X-Robots-Tag:noindex
X-PUBLISHED-TTL:PT1H
BEGIN:VTIMEZONE
TZID:America/Los_Angeles
BEGIN:DAYLIGHT
TZOFFSETFROM:-0800
TZOFFSETTO:-0700
TZNAME:PDT
DTSTART:20180311T100000
END:DAYLIGHT
BEGIN:STANDARD
TZOFFSETFROM:-0700
TZOFFSETTO:-0800
TZNAME:PST
DTSTART:20181104T090000
END:STANDARD
BEGIN:DAYLIGHT
TZOFFSETFROM:-0800
TZOFFSETTO:-0700
TZNAME:PDT
DTSTART:20190310T100000
END:DAYLIGHT
BEGIN:STANDARD
TZOFFSETFROM:-0700
TZOFFSETTO:-0800
TZNAME:PST
DTSTART:20191103T090000
END:STANDARD
BEGIN:DAYLIGHT
TZOFFSETFROM:-0800
TZOFFSETTO:-0700
TZNAME:PDT
DTSTART:20200308T100000
END:DAYLIGHT
BEGIN:STANDARD
TZOFFSETFROM:-0700
TZOFFSETTO:-0800
TZNAME:PST
DTSTART:20201101T090000
END:STANDARD
END:VTIMEZONE
BEGIN:VEVENT
DTSTART;VALUE=DATE:20191114
DTEND;VALUE=DATE:20191118
DTSTAMP:20260424T032750
CREATED:20190926T191610Z
LAST-MODIFIED:20221216T062748Z
UID:10000141-1573689600-1574035199@marclesser.net
SUMMARY:2019 Mindful Leadership Summit
DESCRIPTION:Over the last 6 years\, this annual event has brought together 3\,540 leaders from over 34 countries. The Summit includes keynote talks\, panel discussions\, interactive workshops\, practices\, mindful movement\, and plenty of opportunities to share and connect. Attendees learn from the experts about how to be a better leader\, transform workplace culture\, improve a team’s health & performance\, and create a thriving people-centric organization. \nMarc Lesser will be presenting twice at the Summit: \n• November 16: Keynote address (topic TBA)\n• November 17\, 1:00 – 4:00 pm: Seven Practices of a Mindful Leader workshop. This mindfulness-based emotional intelligence training integrates self-awareness\, communication skills\, and cutting-edge neuroscience with depth and accessibility for leaders\, and will draw from Marc Lesser’s acclaimed book Seven Practices of a Mindful Leader: Lessons from Google and a Zen Monastery Kitchen.
URL:https://marclesser.net/event/2019-mindful-leadership-summit/
LOCATION:Grand Hyatt Hotel\, 1000 H St NW\, Washington\, DC\, 20001\, United States
CATEGORIES:Seven Practices,Workshop
END:VEVENT
END:VCALENDAR