BEGIN:VCALENDAR
VERSION:2.0
PRODID:-//Marc Lesser - ECPv6.15.20//NONSGML v1.0//EN
CALSCALE:GREGORIAN
METHOD:PUBLISH
X-WR-CALNAME:Marc Lesser
X-ORIGINAL-URL:https://marclesser.net
X-WR-CALDESC:Events for Marc Lesser
REFRESH-INTERVAL;VALUE=DURATION:PT1H
X-Robots-Tag:noindex
X-PUBLISHED-TTL:PT1H
BEGIN:VTIMEZONE
TZID:America/Los_Angeles
BEGIN:DAYLIGHT
TZOFFSETFROM:-0800
TZOFFSETTO:-0700
TZNAME:PDT
DTSTART:20210314T100000
END:DAYLIGHT
BEGIN:STANDARD
TZOFFSETFROM:-0700
TZOFFSETTO:-0800
TZNAME:PST
DTSTART:20211107T090000
END:STANDARD
BEGIN:DAYLIGHT
TZOFFSETFROM:-0800
TZOFFSETTO:-0700
TZNAME:PDT
DTSTART:20220313T100000
END:DAYLIGHT
BEGIN:STANDARD
TZOFFSETFROM:-0700
TZOFFSETTO:-0800
TZNAME:PST
DTSTART:20221106T090000
END:STANDARD
BEGIN:DAYLIGHT
TZOFFSETFROM:-0800
TZOFFSETTO:-0700
TZNAME:PDT
DTSTART:20230312T100000
END:DAYLIGHT
BEGIN:STANDARD
TZOFFSETFROM:-0700
TZOFFSETTO:-0800
TZNAME:PST
DTSTART:20231105T090000
END:STANDARD
END:VTIMEZONE
BEGIN:VEVENT
DTSTART;TZID=America/Los_Angeles:20220911T180000
DTEND;TZID=America/Los_Angeles:20220916T130000
DTSTAMP:20260422T043829
CREATED:20220214T081137Z
LAST-MODIFIED:20221216T062311Z
UID:10000096-1662919200-1663333200@marclesser.net
SUMMARY:7 Practices of a Mindful Leader - Hollyhock\, Cortez Island\, BC
DESCRIPTION:7 Practices of a Mindful Leader with Lee Klinger Lesser and Marc Lesser \nIn our world of busyness – of more\, faster\, better – this retreat offers time to stop\, reflect\, and renew. \nIt is a time to step fully into the richness of our lives. Together we will follow a gentle schedule of sensory awareness practice and sitting meditation interspersed with talks\, Zen stories\, journal writing\, as well as small group and large group dialogue as we uncover how these stories and dialogues may be utilized to transform our way of being in the world as leaders. \nLeadership is primarily about cultivating clarity\, empowering others\, and skillfully responding to change. Each day our practice will be focused on one or two of the seven practices of a mindful leader described below: \n• Love the work\n• Do the work\n• Don’t be an expert\n• Connect to your pain\n• Connect to the pain of others\n• Depend on others\n• Keep making it simpler \nWe are all leaders. We all lead our own lives and we all have tremendous influence in our work\, families\, and relationships. We will practice developing ways to integrate mindfulness into our ability to envision\, connect\, empower\, and collaborate. Sensory Awareness and Zen are practices through which we connect with our natural intelligence and vitality; we can discover what responds in us in the midst of change and growth; and we can learn to rely on our sensations as guides to the fresh terrain of each moment. \nThis workshop focuses on tools that help us to be present\, tools that are antidotes to busyness and that support our ability to be in touch with what matters most. By slowing down and looking deeply\, we can connect with our sensations and our deepest aspirations and find the freedom and open-heartedness that are our birthright. \nStarts with dinner on September 11 and ends with lunch on September 16. A detailed schedule will be available 1-2 weeks in advance of the program. \nRegister here.
URL:https://marclesser.net/event/7-practices-of-a-mindful-leader-9-11-2022/
LOCATION:Hollyhock Leadership Learning Centre\, Highfield Rd\, Comox-Strathcona I\, BC\, V0P 1K0\, Canada
END:VEVENT
END:VCALENDAR