BEGIN:VCALENDAR
VERSION:2.0
PRODID:-//Marc Lesser - ECPv6.15.20//NONSGML v1.0//EN
CALSCALE:GREGORIAN
METHOD:PUBLISH
X-ORIGINAL-URL:https://marclesser.net
X-WR-CALDESC:Events for Marc Lesser
REFRESH-INTERVAL;VALUE=DURATION:PT1H
X-Robots-Tag:noindex
X-PUBLISHED-TTL:PT1H
BEGIN:VTIMEZONE
TZID:America/Los_Angeles
BEGIN:DAYLIGHT
TZOFFSETFROM:-0800
TZOFFSETTO:-0700
TZNAME:PDT
DTSTART:20190310T100000
END:DAYLIGHT
BEGIN:STANDARD
TZOFFSETFROM:-0700
TZOFFSETTO:-0800
TZNAME:PST
DTSTART:20191103T090000
END:STANDARD
BEGIN:DAYLIGHT
TZOFFSETFROM:-0800
TZOFFSETTO:-0700
TZNAME:PDT
DTSTART:20200308T100000
END:DAYLIGHT
BEGIN:STANDARD
TZOFFSETFROM:-0700
TZOFFSETTO:-0800
TZNAME:PST
DTSTART:20201101T090000
END:STANDARD
BEGIN:DAYLIGHT
TZOFFSETFROM:-0800
TZOFFSETTO:-0700
TZNAME:PDT
DTSTART:20210314T100000
END:DAYLIGHT
BEGIN:STANDARD
TZOFFSETFROM:-0700
TZOFFSETTO:-0800
TZNAME:PST
DTSTART:20211107T090000
END:STANDARD
END:VTIMEZONE
BEGIN:VEVENT
DTSTART;TZID=America/Los_Angeles:20200405T090000
DTEND;TZID=America/Los_Angeles:20200405T170000
DTSTAMP:20260423T195755
CREATED:20191205T052658Z
LAST-MODIFIED:20221216T062532Z
UID:10000081-1586077200-1586106000@marclesser.net
SUMMARY:Step Into Your Life: A 1-Day Meditation and Mindfulness Retreat - canceled
DESCRIPTION:“The practice I speak of is not meditation. It is simply the dharma gate of repose and bliss…It is the manifestation of ultimate reality…Once its heart is grasped\, you are like a dragon when he gains the water\, like a tiger when she enters the mountains.”\n–Dogen \nIn our world of busyness\, of more/faster/better\, this one-day retreat offers time to stop\, reflect\, and renew. We will explore the practices of effort and effortless as a path to well-being and “stepping into your life.” \nTogether we’ll follow a gentle schedule of sitting and walking meditation\, a talk\, and some discussion. No prior meditation experience is necessary; this retreat is also for those looking to renew or deepen an existing meditation and mindfulness practice. \nTickets: \n$100: General Admission\n$80: Mill Valley Zen Members\n$50: Limited Income (young adults (18-26)\, elders (65+) with limited/fixed incomes\, unemployed\, disabled) \n* Scroll down to purchase.
URL:https://marclesser.net/event/step-into-your-life-april-2020/
LOCATION:Homestead Community Center – Poolside Room\, 315 Montford Ave\, Mill Valley\, CA\, 94941\, United States
CATEGORIES:Retreat
ORGANIZER;CN="ZBA Associates Inc.":MAILTO:info@zbaassociates.com
END:VEVENT
BEGIN:VEVENT
DTSTART;TZID=America/Los_Angeles:20200216T090000
DTEND;TZID=America/Los_Angeles:20200216T123000
DTSTAMP:20260423T195755
CREATED:20191205T032524Z
LAST-MODIFIED:20221216T062725Z
UID:10000147-1581843600-1581856200@marclesser.net
SUMMARY:Step Into Your Life: ½ Day Meditation and Mindfulness Retreat
DESCRIPTION:“The practice I speak of is not meditation. It is simply the dharma gate of repose and bliss…It is the manifestation of ultimate reality…Once its heart is grasped\, you are like a dragon when he gains the water\, like a tiger when she enters the mountains.”\n–Dogen \nIn our world of busyness\, of more/faster/better\, this one-day retreat offers time to stop\, reflect\, and renew. We will explore the practices of effort and effortless as a path to well-being and “stepping into your life.” \nTogether we’ll follow a gentle schedule of sitting and walking meditation\, a talk\, and some discussion. No prior meditation experience is necessary; this retreat is also for those looking to renew or deepen an existing meditation and mindfulness practice. \nA vegetarian lunch will be served. \nTickets: \n$50: General Admission\n$40: Mill Valley Zen Members\n$35: Limited Income (young adults (18-26)\, elders (65+) with limited/fixed incomes\, unemployed\, disabled) \n* Scroll down to purchase.
URL:https://marclesser.net/event/step-into-your-life-feb-2020/
LOCATION:Homestead Community Center – Poolside Room\, 315 Montford Ave\, Mill Valley\, CA\, 94941\, United States
CATEGORIES:Retreat
END:VEVENT
END:VCALENDAR