BEGIN:VCALENDAR
VERSION:2.0
PRODID:-//Marc Lesser - ECPv6.15.20//NONSGML v1.0//EN
CALSCALE:GREGORIAN
METHOD:PUBLISH
X-WR-CALNAME:Marc Lesser
X-ORIGINAL-URL:https://marclesser.net
X-WR-CALDESC:Events for Marc Lesser
REFRESH-INTERVAL;VALUE=DURATION:PT1H
X-Robots-Tag:noindex
X-PUBLISHED-TTL:PT1H
BEGIN:VTIMEZONE
TZID:America/Los_Angeles
BEGIN:DAYLIGHT
TZOFFSETFROM:-0800
TZOFFSETTO:-0700
TZNAME:PDT
DTSTART:20200308T100000
END:DAYLIGHT
BEGIN:STANDARD
TZOFFSETFROM:-0700
TZOFFSETTO:-0800
TZNAME:PST
DTSTART:20201101T090000
END:STANDARD
BEGIN:DAYLIGHT
TZOFFSETFROM:-0800
TZOFFSETTO:-0700
TZNAME:PDT
DTSTART:20210314T100000
END:DAYLIGHT
BEGIN:STANDARD
TZOFFSETFROM:-0700
TZOFFSETTO:-0800
TZNAME:PST
DTSTART:20211107T090000
END:STANDARD
BEGIN:DAYLIGHT
TZOFFSETFROM:-0800
TZOFFSETTO:-0700
TZNAME:PDT
DTSTART:20220313T100000
END:DAYLIGHT
BEGIN:STANDARD
TZOFFSETFROM:-0700
TZOFFSETTO:-0800
TZNAME:PST
DTSTART:20221106T090000
END:STANDARD
END:VTIMEZONE
BEGIN:VEVENT
DTSTART;TZID=America/Los_Angeles:20210312T080000
DTEND;TZID=America/Los_Angeles:20210313T170000
DTSTAMP:20260424T082217
CREATED:20210127T015036Z
LAST-MODIFIED:20221216T062347Z
UID:10000091-1615536000-1615654800@marclesser.net
SUMMARY:Mindful Changemakers Online Summit
DESCRIPTION:The Mindful Changemakers Summit is an exploration of the intersection of the “inner work” of mindfulness and the “outer work” of social and environmental transformation. \nA diverse panel of experienced speakers join mindfulness and leadership coach Marc Lesser for a series of discussions about the role of mindfulness\, meditation\, and contemplative practice as a basis for positive change. \nThe world needs changemakers and courageous influencers who are steeped in practices of self-awareness\, wisdom\, and compassion. The Mindful Changemakers Summit features conversations with leading voices in the areas of climate change\, race\, social entrepreneurship and finance\, technology\, well-being\, and other crucial topics with the goal of cultivating greater understanding and healing\, while inspiring compassionate action in the areas that matter most. \nRegistration is free!
URL:https://marclesser.net/event/mindful-changemakers-online-summit/
LOCATION:Virtual Event
CATEGORIES:Virtual Event
ATTACH;FMTTYPE=image/jpeg:https://marclesser.net/wp-content/uploads/2021/01/MCS_Logo_Square-1.jpg
END:VEVENT
END:VCALENDAR